BEGIN:VCALENDAR
VERSION:2.0
PRODID:-//Golfe Saint-Tropez//Events//FR
CALSCALE:GREGORIAN
METHOD:PUBLISH
BEGIN:VEVENT
UID:69eb4f26901b5@golfe-saint-tropez.com
DTSTAMP:20260424T110822Z
DTSTART:20260709T000000
DTEND:20260709T000000
SUMMARY:100% DIVA BY MAGE – concert reprises chansons 100% féminine
DESCRIPTION:Plongez dans l’univers envoûtant des plus grandes divas de la musique lors du concert 100% DIVA BY MAGE\, un événement […]\n\nPlus d'infos : https://golfe-saint-tropez.com/evenement/cavalaire/100-diva-by-mage-concert-reprises-chansons-100-feminine/
LOCATION:83240 Cavalaire-sur-Mer
STATUS:CONFIRMED
SEQUENCE:0
END:VEVENT
END:VCALENDAR
