BEGIN:VCALENDAR
VERSION:2.0
PRODID:-//Golfe Saint-Tropez//Events//FR
CALSCALE:GREGORIAN
METHOD:PUBLISH
BEGIN:VEVENT
UID:69e521ef254d9@golfe-saint-tropez.com
DTSTAMP:20260419T184151Z
DTSTART:20260507T000000
DTEND:20260521T000000
SUMMARY:Ateliers numériques
DESCRIPTION:Vous souhaitez maîtriser les bases du numérique ou vous sentir plus à l’aise avec les outils digitaux ? Cavalaire\, dans […]\n\nPlus d'infos : https://golfe-saint-tropez.com/evenement/cavalaire/ateliers-numeriques-2/
LOCATION:Rue du Port\, 83240 Cavalaire-sur-Mer
STATUS:CONFIRMED
SEQUENCE:0
END:VEVENT
END:VCALENDAR
