BEGIN:VCALENDAR
VERSION:2.0
PRODID:-//Golfe Saint-Tropez//Events//FR
CALSCALE:GREGORIAN
METHOD:PUBLISH
BEGIN:VEVENT
UID:69e82cd52d0db@golfe-saint-tropez.com
DTSTAMP:20260422T020509Z
DTSTART:20260416T000000
DTEND:20260423T000000
SUMMARY:Avril en Famille: Ateliers créatifs de Printemps
DESCRIPTION:Le printemps s’invite en famille à Cavalaire avec les ateliers créatifs d’Avril en Famille ! Le 16 avril 2026\, laissez […]\n\nPlus d'infos : https://golfe-saint-tropez.com/evenement/cavalaire/avril-en-famille-ateliers-creatifs-de-printemps/
LOCATION:50 Rond-Point Saint Exupéry\, 83240 Cavalaire-sur-Mer\, France
STATUS:CONFIRMED
SEQUENCE:0
END:VEVENT
END:VCALENDAR
