BEGIN:VCALENDAR
VERSION:2.0
PRODID:-//Golfe Saint-Tropez//Events//FR
CALSCALE:GREGORIAN
METHOD:PUBLISH
BEGIN:VEVENT
UID:69e5131d48404@golfe-saint-tropez.com
DTSTAMP:20260419T173837Z
DTSTART:20260424T000000
DTEND:20260424T000000
SUMMARY:Avril en Famille: balade à dos d’ânes
DESCRIPTION:Offrez à vos enfants une aventure inoubliable lors de cet événement familial au cœur du Golfe de Saint-Tropez ! Le […]\n\nPlus d'infos : https://golfe-saint-tropez.com/evenement/cavalaire/avril-en-famille-balade-a-dos-danes/
LOCATION:La Croix du Sud\, 83240 Cavalaire-sur-Mer\, France
STATUS:CONFIRMED
SEQUENCE:0
END:VEVENT
END:VCALENDAR
