BEGIN:VCALENDAR
VERSION:2.0
PRODID:-//Golfe Saint-Tropez//Events//FR
CALSCALE:GREGORIAN
METHOD:PUBLISH
BEGIN:VEVENT
UID:69e52721d789c@golfe-saint-tropez.com
DTSTAMP:20260419T190401Z
DTSTART:20260420T000000
DTEND:20260420T000000
SUMMARY:Avril en Famille: Karting à pédales
DESCRIPTION:Prêts à vivre une aventure familiale inoubliable dans le Golfe de Saint-Tropez ? Le 20 avril 2026\, Cavalaire vous invite […]\n\nPlus d'infos : https://golfe-saint-tropez.com/evenement/cavalaire/avril-en-famille-karting-a-pedales/
LOCATION:Rond-point Saint-Exupéry\, 83240 Cavalaire-sur-Mer\, France
STATUS:CONFIRMED
SEQUENCE:0
END:VEVENT
END:VCALENDAR
