BEGIN:VCALENDAR
VERSION:2.0
PRODID:-//Golfe Saint-Tropez//Events//FR
CALSCALE:GREGORIAN
METHOD:PUBLISH
BEGIN:VEVENT
UID:69e552f7030c3@golfe-saint-tropez.com
DTSTAMP:20260419T221103Z
DTSTART:20260421T000000
DTEND:20260421T000000
SUMMARY:Avril en Famille : La Grande Kermesse
DESCRIPTION:Envie d’une journée festive en famille dans le Golfe de Saint-Tropez ? Ne manquez pas Avril en Famille : La […]\n\nPlus d'infos : https://golfe-saint-tropez.com/evenement/cavalaire/avril-en-famille-la-grande-kermesse/
LOCATION:Rond-point Saint-Exupéry\, 83240 Cavalaire-sur-Mer\, France
STATUS:CONFIRMED
SEQUENCE:0
END:VEVENT
END:VCALENDAR
