BEGIN:VCALENDAR
VERSION:2.0
PRODID:-//Golfe Saint-Tropez//Events//FR
CALSCALE:GREGORIAN
METHOD:PUBLISH
BEGIN:VEVENT
UID:69e594cf8cdd0@golfe-saint-tropez.com
DTSTAMP:20260420T025159Z
DTSTART:20260423T000000
DTEND:20260423T000000
SUMMARY:Avril en Famille: Le labyrinthe géant
DESCRIPTION:Prêts pour une aventure ludique en famille ? Le 23 avril 2026\, Cavalaire-sur-Mer vous invite à son événement phare « […]\n\nPlus d'infos : https://golfe-saint-tropez.com/evenement/cavalaire/avril-en-famille-le-labyrinthe-geant/
LOCATION:Rond-point Saint-Exupéry\, 83240 Cavalaire-sur-Mer\, France
STATUS:CONFIRMED
SEQUENCE:0
END:VEVENT
END:VCALENDAR
