BEGIN:VCALENDAR
VERSION:2.0
PRODID:-//Golfe Saint-Tropez//Events//FR
CALSCALE:GREGORIAN
METHOD:PUBLISH
BEGIN:VEVENT
UID:69e5ac1f55cc0@golfe-saint-tropez.com
DTSTAMP:20260420T043127Z
DTSTART:20260416T100000
DTEND:20260423T102640
SUMMARY:Avril en Famille: Les Ateliers du Petit Archéologue
DESCRIPTION:Plongez dans l’histoire gallo-romaine en famille avec les Ateliers du Petit Archéologue à Cavalaire ! Le 16 avril 2026\, l’Espace […]\n\nPlus d'infos : https://golfe-saint-tropez.com/evenement/cavalaire/avril-en-famille-les-ateliers-du-petit-archeologue-2/
LOCATION:Rue du Port\, 83240 Cavalaire-sur-Mer\, France
STATUS:CONFIRMED
SEQUENCE:0
END:VEVENT
END:VCALENDAR
