BEGIN:VCALENDAR
VERSION:2.0
PRODID:-//Golfe Saint-Tropez//Events//FR
CALSCALE:GREGORIAN
METHOD:PUBLISH
BEGIN:VEVENT
UID:69e8871bf3782@golfe-saint-tropez.com
DTSTAMP:20260422T083019Z
DTSTART:20260417T102538
DTEND:20260424T102538
SUMMARY:Avril en Famille: Les Ateliers du Petit Archéologue
DESCRIPTION:Plongez dans l’histoire gallo-romaine en famille avec l’atelier « Les Ateliers du Petit Archéologue » à Cavalaire ! Le 17 […]\n\nPlus d'infos : https://golfe-saint-tropez.com/evenement/cavalaire/avril-en-famille-les-ateliers-du-petit-archeologue-3/
LOCATION:Rue du Port\, 83240 Cavalaire-sur-Mer\, France
STATUS:CONFIRMED
SEQUENCE:0
END:VEVENT
END:VCALENDAR
