BEGIN:VCALENDAR
VERSION:2.0
PRODID:-//Golfe Saint-Tropez//Events//FR
CALSCALE:GREGORIAN
METHOD:PUBLISH
BEGIN:VEVENT
UID:69e5a90f87367@golfe-saint-tropez.com
DTSTAMP:20260420T041823Z
DTSTART:20260415T000000
DTEND:20260422T000000
SUMMARY:Avril en Famille: Les Ateliers du Petit Archéologue
DESCRIPTION:Plongez vos enfants dans l’histoire antique avec l’événement Avril en Famille: Les Ateliers du Petit Archéologue à Cavalaire-sur-Mer ! Le […]\n\nPlus d'infos : https://golfe-saint-tropez.com/evenement/cavalaire/avril-en-famille-les-ateliers-du-petit-archeologue/
LOCATION:Rue du Port\, 83240 Cavalaire-sur-Mer\, France
STATUS:CONFIRMED
SEQUENCE:0
END:VEVENT
END:VCALENDAR
