BEGIN:VCALENDAR
VERSION:2.0
PRODID:-//Golfe Saint-Tropez//Events//FR
CALSCALE:GREGORIAN
METHOD:PUBLISH
BEGIN:VEVENT
UID:69e5d67ba8fec@golfe-saint-tropez.com
DTSTAMP:20260420T073211Z
DTSTART:20260413T100000
DTEND:20260423T160354
SUMMARY:Avril en Famille : Village Multisports – Journée non-stop
DESCRIPTION:Le Golfe de Saint-Tropez s’anime en famille ce printemps ! Le 13 avril 2026\, Cavalaire-sur-Mer vous invite à une journée […]\n\nPlus d'infos : https://golfe-saint-tropez.com/evenement/cavalaire/avril-en-famille-village-multisports-journee-non-stop/
LOCATION:Place Jean Moulin 83240 Cavalaire-sur-Mer
STATUS:CONFIRMED
SEQUENCE:0
END:VEVENT
END:VCALENDAR
