BEGIN:VCALENDAR
VERSION:2.0
PRODID:-//Golfe Saint-Tropez//Events//FR
CALSCALE:GREGORIAN
METHOD:PUBLISH
BEGIN:VEVENT
UID:69e590dee26ee@golfe-saint-tropez.com
DTSTAMP:20260420T023510Z
DTSTART:20260607T000000
DTEND:20260607T000000
SUMMARY:Caval’raid au Féminin
DESCRIPTION:Prêtes à vivre une aventure unique alliant sport\, défis et complicité féminine ? Le Caval’raid au Féminin revient à Cavalaire […]\n\nPlus d'infos : https://golfe-saint-tropez.com/evenement/cavalaire/cavalraid-au-feminin/
LOCATION:Avenue Pierre et Marie Curie\, 83240 Cavalaire-sur-Mer
STATUS:CONFIRMED
SEQUENCE:0
END:VEVENT
END:VCALENDAR
