BEGIN:VCALENDAR
VERSION:2.0
PRODID:-//Golfe Saint-Tropez//Events//FR
CALSCALE:GREGORIAN
METHOD:PUBLISH
BEGIN:VEVENT
UID:69e50bfb32990@golfe-saint-tropez.com
DTSTAMP:20260419T170811Z
DTSTART:20260502T000000
DTEND:20260502T000000
SUMMARY:Championnat de Tarot
DESCRIPTION:Passionnés de tarot ou simples curieux\, ne manquez pas le Championnat de Tarot de Cavalaire\, un événement incontournable dans le […]\n\nPlus d'infos : https://golfe-saint-tropez.com/evenement/cavalaire/championnat-de-tarot/
LOCATION:Avenue Charles de Gaulle\, 83240 Cavalaire-sur-Mer
STATUS:CONFIRMED
SEQUENCE:0
END:VEVENT
END:VCALENDAR
