BEGIN:VCALENDAR
VERSION:2.0
PRODID:-//Golfe Saint-Tropez//Events//FR
CALSCALE:GREGORIAN
METHOD:PUBLISH
BEGIN:VEVENT
UID:69e5a4f033521@golfe-saint-tropez.com
DTSTAMP:20260420T040048Z
DTSTART:20260528T000000
DTEND:20260528T000000
SUMMARY:Concert Intimiste : Concert théâtralisé « L’Art de se débrouiller » par Francesco Il Mercante
DESCRIPTION:Plongez dans un univers poétique et surprenant avec le concert théâtralisé « L’Art de se débrouiller » par Francesco Il […]\n\nPlus d'infos : https://golfe-saint-tropez.com/evenement/cavalaire/concert-intimiste-concert-theatralise-lart-de-se-debrouiller-par-francesco-il-mercante/
LOCATION:Rue du Port\, 83240 Cavalaire-sur-Mer
STATUS:CONFIRMED
SEQUENCE:0
END:VEVENT
END:VCALENDAR
