BEGIN:VCALENDAR
VERSION:2.0
PRODID:-//Golfe Saint-Tropez//Events//FR
CALSCALE:GREGORIAN
METHOD:PUBLISH
BEGIN:VEVENT
UID:69e841234b068@golfe-saint-tropez.com
DTSTAMP:20260422T033147Z
DTSTART:20260819T000000
DTEND:20260819T000000
SUMMARY:Défi de la Baie: course à la nage
DESCRIPTION:Plongez dans l’aventure avec le Défi de la Baie\, une course à la nage incontournable du Golfe de Saint-Tropez ! […]\n\nPlus d'infos : https://golfe-saint-tropez.com/evenement/cavalaire/defi-de-la-baie-course-a-la-nage-2/
LOCATION:RD559\, 83240 Cavalaire-sur-Mer\, France
STATUS:CONFIRMED
SEQUENCE:0
END:VEVENT
END:VCALENDAR
