BEGIN:VCALENDAR
VERSION:2.0
PRODID:-//Golfe Saint-Tropez//Events//FR
CALSCALE:GREGORIAN
METHOD:PUBLISH
BEGIN:VEVENT
UID:69eb7b9507b7b@golfe-saint-tropez.com
DTSTAMP:20260424T141757Z
DTSTART:20251112T123108
DTEND:20260516T123108
SUMMARY:Exposition : 7500 ans d’histoire : La plus ancienne maison néolithique de Provence à Cavalaire !
DESCRIPTION:Plongez au cœur d’un passé immémorial sur la Côte d’Azur ! La commune de Cavalaire-sur-Mer accueille un événement exceptionnel qui […]\n\nPlus d'infos : https://golfe-saint-tropez.com/evenement/cavalaire/exposition-7500-ans-dhistoire-la-plus-ancienne-maison-neolithique-de-provence-a-cavalaire/
LOCATION:maison néolithique de Provence à Cavalaire ! Rue du Port 83240 Cavalaire-sur-Mer
STATUS:CONFIRMED
SEQUENCE:0
END:VEVENT
END:VCALENDAR
