BEGIN:VCALENDAR
VERSION:2.0
PRODID:-//Golfe Saint-Tropez//Events//FR
CALSCALE:GREGORIAN
METHOD:PUBLISH
BEGIN:VEVENT
UID:69e57928141e6@golfe-saint-tropez.com
DTSTAMP:20260420T005400Z
DTSTART:20260624T000000
DTEND:20260624T000000
SUMMARY:Fête de la Saint Jean
DESCRIPTION:Plongez dans la magie du solstice d’été avec la Fête de la Saint Jean à Cavalaire\, un événement incontournable du […]\n\nPlus d'infos : https://golfe-saint-tropez.com/evenement/cavalaire/fete-de-la-saint-jean-2/
LOCATION:Fête de la Saint Jean\, 83240 Cavalaire-sur-Mer
STATUS:CONFIRMED
SEQUENCE:0
END:VEVENT
END:VCALENDAR
