BEGIN:VCALENDAR
VERSION:2.0
PRODID:-//Golfe Saint-Tropez//Events//FR
CALSCALE:GREGORIAN
METHOD:PUBLISH
BEGIN:VEVENT
UID:69eb6424104c1@golfe-saint-tropez.com
DTSTAMP:20260424T123756Z
DTSTART:20260628T000000
DTEND:20260628T000000
SUMMARY:Fête de la Saint Pierre
DESCRIPTION:Plongez dans l’âme maritime du Golfe de Saint-Tropez à l’occasion de la Fête de la Saint Pierre\, un événement incontournable […]\n\nPlus d'infos : https://golfe-saint-tropez.com/evenement/cavalaire/fete-de-la-saint-pierre-2/
LOCATION:Fête de la Saint Pierre\, 83240 Cavalaire-sur-Mer
STATUS:CONFIRMED
SEQUENCE:0
END:VEVENT
END:VCALENDAR
