BEGIN:VCALENDAR
VERSION:2.0
PRODID:-//Golfe Saint-Tropez//Events//FR
CALSCALE:GREGORIAN
METHOD:PUBLISH
BEGIN:VEVENT
UID:69eb3a3e3989a@golfe-saint-tropez.com
DTSTAMP:20260424T093910Z
DTSTART:20260715T000000
DTEND:20260715T000000
SUMMARY:LA CHASSE AU TRESOR D’OLAF – spectacle musical pour enfants
DESCRIPTION:Prêts pour une aventure enchantée sous le soleil du Golfe de Saint-Tropez ? Le 15 juillet 2026\, Cavalaire accueille La […]\n\nPlus d'infos : https://golfe-saint-tropez.com/evenement/cavalaire/la-chasse-au-tresor-dolaf-spectacle-musical-pour-enfants/
LOCATION:83240 Cavalaire-sur-Mer
STATUS:CONFIRMED
SEQUENCE:0
END:VEVENT
END:VCALENDAR
