BEGIN:VCALENDAR
VERSION:2.0
PRODID:-//Golfe Saint-Tropez//Events//FR
CALSCALE:GREGORIAN
METHOD:PUBLISH
BEGIN:VEVENT
UID:69eb904e50522@golfe-saint-tropez.com
DTSTAMP:20260424T154622Z
DTSTART:20260405T163042
DTEND:20261111T163042
SUMMARY:Marché Artisanal
DESCRIPTION:Découvrez l’artisanat local du Golfe de Saint-Tropez lors du Marché Artisanal de Cavalaire ! Le dimanche 5 avril 2026\, la […]\n\nPlus d'infos : https://golfe-saint-tropez.com/evenement/cavalaire/marche-artisanal-2/
LOCATION:La Croix du Sud\, 83240 Cavalaire-sur-Mer\, France
STATUS:CONFIRMED
SEQUENCE:0
END:VEVENT
END:VCALENDAR
