BEGIN:VCALENDAR
VERSION:2.0
PRODID:-//Golfe Saint-Tropez//Events//FR
CALSCALE:GREGORIAN
METHOD:PUBLISH
BEGIN:VEVENT
UID:69eb4f2674a2b@golfe-saint-tropez.com
DTSTAMP:20260424T110822Z
DTSTART:20260506T080000
DTEND:20260506T130000
SUMMARY:Marché du Mercredi Cavalaire – 6 mai 2026
DESCRIPTION:Chaque mercredi matin\, de 8h30 à 13h\, le marché provençal s’installe sur la Place Jean Moulin\, en plein cœur de […]\n\nPlus d'infos : https://golfe-saint-tropez.com/evenement/cavalaire/marche-du-mercredi-cavalaire-2026-05-06/
LOCATION:Rue Pierre et Marie Curie Cavalaire
STATUS:CONFIRMED
SEQUENCE:0
END:VEVENT
END:VCALENDAR
