BEGIN:VCALENDAR
VERSION:2.0
PRODID:-//Golfe Saint-Tropez//Events//FR
CALSCALE:GREGORIAN
METHOD:PUBLISH
BEGIN:VEVENT
UID:69e4e1281aa8f@golfe-saint-tropez.com
DTSTAMP:20260419T140528Z
DTSTART:20260518T000000
DTEND:20260518T000000
SUMMARY:Pièce de théâtre : l’Avare malgré Eux
DESCRIPTION:Vous cherchez une soirée placée sous le signe de la générosité et du divertissement ? Ne manquez pas la pièce […]\n\nPlus d'infos : https://golfe-saint-tropez.com/evenement/cavalaire/piece-de-theatre-lavare-malgre-eux/
LOCATION:Avenue Charles de Gaulle\, 83240 Cavalaire-sur-Mer
STATUS:CONFIRMED
SEQUENCE:0
END:VEVENT
END:VCALENDAR
