BEGIN:VCALENDAR
VERSION:2.0
PRODID:-//Golfe Saint-Tropez//Events//FR
CALSCALE:GREGORIAN
METHOD:PUBLISH
BEGIN:VEVENT
UID:69e83d43e279f@golfe-saint-tropez.com
DTSTAMP:20260422T031515Z
DTSTART:20260718T000000
DTEND:20260718T000000
SUMMARY:Rallye Nautique Estivoile
DESCRIPTION:Vivez l’esprit maritime du Golfe de Saint-Tropez lors du Rallye Nautique Estivoile\, un événement incontournable pour les amateurs de voile […]\n\nPlus d'infos : https://golfe-saint-tropez.com/evenement/cavalaire/rallye-nautique-estivoile/
LOCATION:Promenade de la Mer\, 83240 Cavalaire-sur-Mer\, France
STATUS:CONFIRMED
SEQUENCE:0
END:VEVENT
END:VCALENDAR
