BEGIN:VCALENDAR
VERSION:2.0
PRODID:-//Golfe Saint-Tropez//Events//FR
CALSCALE:GREGORIAN
METHOD:PUBLISH
BEGIN:VEVENT
UID:69e8645778112@golfe-saint-tropez.com
DTSTAMP:20260422T060159Z
DTSTART:20260429T000000
DTEND:20261028T000000
SUMMARY:Séance de Yoga Aérien avec Peggy Lucido
DESCRIPTION:Envie de vous évader tout en renforçant votre bien-être ? Ne manquez pas la séance de yoga aérien avec Peggy […]\n\nPlus d'infos : https://golfe-saint-tropez.com/evenement/cavalaire/seance-de-yoga-aerien-avec-peggy-lucido/
LOCATION:L'Usine\, 454 Chemin Pierre Foncin\, 83240 Cavalaire-sur-Mer
STATUS:CONFIRMED
SEQUENCE:0
END:VEVENT
END:VCALENDAR
