BEGIN:VCALENDAR
VERSION:2.0
PRODID:-//Golfe Saint-Tropez//Events//FR
CALSCALE:GREGORIAN
METHOD:PUBLISH
BEGIN:VEVENT
UID:69e81fb82f294@golfe-saint-tropez.com
DTSTAMP:20260422T010912Z
DTSTART:20260522T000000
DTEND:20260522T000000
SUMMARY:Soirée jeux de société
DESCRIPTION:Envie de partager un moment convivial et ludique dans le Golfe de Saint-Tropez ? Ne manquez pas la Soirée jeux […]\n\nPlus d'infos : https://golfe-saint-tropez.com/evenement/cavalaire/soiree-jeux-de-societe/
LOCATION:Rue du Port\, 83240 Cavalaire-sur-Mer
STATUS:CONFIRMED
SEQUENCE:0
END:VEVENT
END:VCALENDAR
