BEGIN:VCALENDAR
VERSION:2.0
PRODID:-//Golfe Saint-Tropez//Events//FR
CALSCALE:GREGORIAN
METHOD:PUBLISH
BEGIN:VEVENT
UID:69eb642e01818@golfe-saint-tropez.com
DTSTAMP:20260424T123806Z
DTSTART:20260703T000000
DTEND:20260703T000000
SUMMARY:Spectacle Cabaret de la Troupe Show Dance Studio
DESCRIPTION:Plongez dans l’univers étincelant du cabaret avec la Troupe Show Dance Studio lors de leur spectacle à Cavalaire ! Un […]\n\nPlus d'infos : https://golfe-saint-tropez.com/evenement/cavalaire/spectacle-cabaret-de-la-troupe-show-dance-studio/
LOCATION:Esplanade Ste Estelle\, 83240 Cavalaire-sur-Mer
STATUS:CONFIRMED
SEQUENCE:0
END:VEVENT
END:VCALENDAR
