BEGIN:VCALENDAR
VERSION:2.0
PRODID:-//Golfe Saint-Tropez//Events//FR
CALSCALE:GREGORIAN
METHOD:PUBLISH
BEGIN:VEVENT
UID:69e4ccfc41edb@golfe-saint-tropez.com
DTSTAMP:20260419T123924Z
DTSTART:20260420T140000
DTEND:20260420T173451
SUMMARY:Animation interactives au centre Maurin des Maures
DESCRIPTION:Plongez dans l’univers ludique et créatif des animations interactives au centre Maurin des Maures à Cogolin\, un événement incontournable du […]\n\nPlus d'infos : https://golfe-saint-tropez.com/evenement/cogolin/animation-interactives-au-centre-maurin-des-maures/
LOCATION:Centre Culturel Maurin des Maures rue Georges Clémenceau 83310 Cogolin
STATUS:CONFIRMED
SEQUENCE:0
END:VEVENT
END:VCALENDAR
