BEGIN:VCALENDAR
VERSION:2.0
PRODID:-//Golfe Saint-Tropez//Events//FR
CALSCALE:GREGORIAN
METHOD:PUBLISH
BEGIN:VEVENT
UID:69e863485737e@golfe-saint-tropez.com
DTSTAMP:20260422T055728Z
DTSTART:20260422T140000
DTEND:20260422T174913
SUMMARY:Atelier de Pâques avec Clara
DESCRIPTION:Pâques s’annonce créatif dans le Golfe de Saint-Tropez ! Le mercredi 22 avril 2026\, la médiathèque de Cogolin invite les […]\n\nPlus d'infos : https://golfe-saint-tropez.com/evenement/cogolin/atelier-de-paques-avec-clara/
LOCATION:Médiathèque Espace Rostropovitch 44 rue Marceau – 83310 COGOLIN
STATUS:CONFIRMED
SEQUENCE:0
END:VEVENT
END:VCALENDAR
