BEGIN:VCALENDAR
VERSION:2.0
PRODID:-//Golfe Saint-Tropez//Events//FR
CALSCALE:GREGORIAN
METHOD:PUBLISH
BEGIN:VEVENT
UID:69eb271fe850f@golfe-saint-tropez.com
DTSTAMP:20260424T081735Z
DTSTART:20260428T000000
DTEND:20260428T000000
SUMMARY:Atelier numérique
DESCRIPTION:Vous souhaitez maîtriser votre téléphone ou tablette en toute sérénité ? Ne manquez pas l’atelier numérique organisé à Cogolin\, un […]\n\nPlus d'infos : https://golfe-saint-tropez.com/evenement/cogolin/atelier-numerique-2/
LOCATION:Non précisée (sur inscription)
STATUS:CONFIRMED
SEQUENCE:0
END:VEVENT
END:VCALENDAR
