BEGIN:VCALENDAR
VERSION:2.0
PRODID:-//Golfe Saint-Tropez//Events//FR
CALSCALE:GREGORIAN
METHOD:PUBLISH
BEGIN:VEVENT
UID:69eb2a13f1a12@golfe-saint-tropez.com
DTSTAMP:20260424T083011Z
DTSTART:20260505T000000
DTEND:20260505T000000
SUMMARY:Atelier numérique
DESCRIPTION:Vous souhaitez maîtriser les bases de la sécurité informatique ? Ne manquez pas cet atelier numérique organisé à Cogolin\, au […]\n\nPlus d'infos : https://golfe-saint-tropez.com/evenement/cogolin/atelier-numerique-4/
LOCATION:Médiathèque Théo\, Cogolin
STATUS:CONFIRMED
SEQUENCE:0
END:VEVENT
END:VCALENDAR
