BEGIN:VCALENDAR
VERSION:2.0
PRODID:-//Golfe Saint-Tropez//Events//FR
CALSCALE:GREGORIAN
METHOD:PUBLISH
BEGIN:VEVENT
UID:69eb292534e25@golfe-saint-tropez.com
DTSTAMP:20260424T082613Z
DTSTART:20260512T000000
DTEND:20260512T000000
SUMMARY:Atelier numérique – Intelligence artificielle
DESCRIPTION:Plongez dans l’univers fascinant de l’intelligence artificielle lors de cet atelier numérique organisé à Cogolin\, au cœur du Golfe de […]\n\nPlus d'infos : https://golfe-saint-tropez.com/evenement/cogolin/atelier-numerique-intelligence-artificielle/
LOCATION:Médiathèque Théo\, Cogolin
STATUS:CONFIRMED
SEQUENCE:0
END:VEVENT
END:VCALENDAR
