BEGIN:VCALENDAR
VERSION:2.0
PRODID:-//Golfe Saint-Tropez//Events//FR
CALSCALE:GREGORIAN
METHOD:PUBLISH
BEGIN:VEVENT
UID:69e7e0d1289bf@golfe-saint-tropez.com
DTSTAMP:20260421T204049Z
DTSTART:20260530T000000
DTEND:20260530T000000
SUMMARY:Atelier Philo
DESCRIPTION:Et si vous preniez un moment pour philosopher dans le cadre apaisant du Golfe de Saint-Tropez ? Cogolin vous invite […]\n\nPlus d'infos : https://golfe-saint-tropez.com/evenement/cogolin/atelier-philo/
LOCATION:Médiathèque\, Cogolin
STATUS:CONFIRMED
SEQUENCE:0
END:VEVENT
END:VCALENDAR
