BEGIN:VCALENDAR
VERSION:2.0
PRODID:-//Golfe Saint-Tropez//Events//FR
CALSCALE:GREGORIAN
METHOD:PUBLISH
BEGIN:VEVENT
UID:69e4e1281a9d2@golfe-saint-tropez.com
DTSTAMP:20260419T140528Z
DTSTART:20260514T000000
DTEND:20260514T000000
SUMMARY:Atelier santé – Sophrologie
DESCRIPTION:Envie d’une parenthèse de bien-être et de sérénité ? Participez à l’atelier santé dédié à la sophrologie à Cogolin\, une […]\n\nPlus d'infos : https://golfe-saint-tropez.com/evenement/cogolin/atelier-sante-sophrologie-2/
LOCATION:Salle de la Cauquière\, 83310 Cogolin
STATUS:CONFIRMED
SEQUENCE:0
END:VEVENT
END:VCALENDAR
