BEGIN:VCALENDAR
VERSION:2.0
PRODID:-//Golfe Saint-Tropez//Events//FR
CALSCALE:GREGORIAN
METHOD:PUBLISH
BEGIN:VEVENT
UID:69e4f631e7224@golfe-saint-tropez.com
DTSTAMP:20260419T153513Z
DTSTART:20260521T000000
DTEND:20260521T000000
SUMMARY:Atelier Santé – Sophrologie
DESCRIPTION:Prenez un moment pour vous et retrouvez la sérénité au cœur de votre quotidien. Le jeudi 21 mai 2026\, la […]\n\nPlus d'infos : https://golfe-saint-tropez.com/evenement/cogolin/atelier-sante-sophrologie-3/
LOCATION:Salle de la Cauquière\, 83310 Cogolin
STATUS:CONFIRMED
SEQUENCE:0
END:VEVENT
END:VCALENDAR
