BEGIN:VCALENDAR
VERSION:2.0
PRODID:-//Golfe Saint-Tropez//Events//FR
CALSCALE:GREGORIAN
METHOD:PUBLISH
BEGIN:VEVENT
UID:69e50c5c523dc@golfe-saint-tropez.com
DTSTAMP:20260419T170948Z
DTSTART:20260528T000000
DTEND:20260528T000000
SUMMARY:Atelier Santé – Sophrologie
DESCRIPTION:Offrez-vous une parenthèse de bien-être au cœur de votre semaine ! L’Atelier Santé dédié à la sophrologie revient à Cogolin […]\n\nPlus d'infos : https://golfe-saint-tropez.com/evenement/cogolin/atelier-sante-sophrologie-4/
LOCATION:Salle de la Cauquière\, 83310 Cogolin
STATUS:CONFIRMED
SEQUENCE:0
END:VEVENT
END:VCALENDAR
