BEGIN:VCALENDAR
VERSION:2.0
PRODID:-//Golfe Saint-Tropez//Events//FR
CALSCALE:GREGORIAN
METHOD:PUBLISH
BEGIN:VEVENT
UID:69e4ca64514e3@golfe-saint-tropez.com
DTSTAMP:20260419T122820Z
DTSTART:20260507T000000
DTEND:20260507T000000
SUMMARY:Atelier Santé – Sophrologie
DESCRIPTION:Prenez un moment pour vous et retrouvez la sérénité lors de cet atelier dédié au bien-être et à l’équilibre personnel. […]\n\nPlus d'infos : https://golfe-saint-tropez.com/evenement/cogolin/atelier-sante-sophrologie/
LOCATION:Salle de la Cauquière\, 83310 Cogolin
STATUS:CONFIRMED
SEQUENCE:0
END:VEVENT
END:VCALENDAR
