BEGIN:VCALENDAR
VERSION:2.0
PRODID:-//Golfe Saint-Tropez//Events//FR
CALSCALE:GREGORIAN
METHOD:PUBLISH
BEGIN:VEVENT
UID:69e4e2772651f@golfe-saint-tropez.com
DTSTAMP:20260419T141103Z
DTSTART:20260423T000000
DTEND:20260423T000000
SUMMARY:Balade en calèche avec les ânes
DESCRIPTION:Découvrez une expérience unique au cœur du Golfe de Saint-Tropez avec la balade en calèche tirée par les ânes de […]\n\nPlus d'infos : https://golfe-saint-tropez.com/evenement/cogolin/balade-en-caleche-avec-les-anes/
LOCATION:Square Jean Moulin\, 83310 Cogolin
STATUS:CONFIRMED
SEQUENCE:0
END:VEVENT
END:VCALENDAR
