BEGIN:VCALENDAR
VERSION:2.0
PRODID:-//Golfe Saint-Tropez//Events//FR
CALSCALE:GREGORIAN
METHOD:PUBLISH
BEGIN:VEVENT
UID:69e4cc93c8f87@golfe-saint-tropez.com
DTSTAMP:20260419T123739Z
DTSTART:20260422T140000
DTEND:20260422T173337
SUMMARY:Boum et karaoké pour les enfants
DESCRIPTION:Envie de faire briller les yeux de vos enfants ? Ne manquez pas la boum et le karaoké spécialement conçus […]\n\nPlus d'infos : https://golfe-saint-tropez.com/evenement/cogolin/boum-et-karaoke-pour-les-enfants/
LOCATION:Centre Culturel Maurin des Maures rue Georges Clémenceau 83310 Cogolin
STATUS:CONFIRMED
SEQUENCE:0
END:VEVENT
END:VCALENDAR
