BEGIN:VCALENDAR
VERSION:2.0
PRODID:-//Golfe Saint-Tropez//Events//FR
CALSCALE:GREGORIAN
METHOD:PUBLISH
BEGIN:VEVENT
UID:69eb3aa67351a@golfe-saint-tropez.com
DTSTAMP:20260424T094054Z
DTSTART:20260508T000000
DTEND:20260510T000000
SUMMARY:Bravades de la Saint-Maur
DESCRIPTION:Plongez au cœur des traditions provençales avec les Bravades de la Saint-Maur\, un événement incontournable du Golfe de Saint-Tropez ! […]\n\nPlus d'infos : https://golfe-saint-tropez.com/evenement/cogolin/bravades-de-la-saint-maur/
LOCATION:Cogolin
STATUS:CONFIRMED
SEQUENCE:0
END:VEVENT
END:VCALENDAR
