BEGIN:VCALENDAR
VERSION:2.0
PRODID:-//Golfe Saint-Tropez//Events//FR
CALSCALE:GREGORIAN
METHOD:PUBLISH
BEGIN:VEVENT
UID:69eb9091868e7@golfe-saint-tropez.com
DTSTAMP:20260424T154729Z
DTSTART:20260530T000000
DTEND:20260530T000000
SUMMARY:Brocante de livres
DESCRIPTION:Plongez dans l’univers des livres à l’occasion de la brocante de livres de Cogolin\, un événement incontournable pour les passionnés […]\n\nPlus d'infos : https://golfe-saint-tropez.com/evenement/cogolin/brocante-de-livres/
LOCATION:Médiathèque\, Cogolin
STATUS:CONFIRMED
SEQUENCE:0
END:VEVENT
END:VCALENDAR
