BEGIN:VCALENDAR
VERSION:2.0
PRODID:-//Golfe Saint-Tropez//Events//FR
CALSCALE:GREGORIAN
METHOD:PUBLISH
BEGIN:VEVENT
UID:69eb3bed098cc@golfe-saint-tropez.com
DTSTAMP:20260424T094621Z
DTSTART:20260427T000000
DTEND:20260427T000000
SUMMARY:Conseil municipal
DESCRIPTION:Vous souhaitez suivre de près la vie locale de Cogolin ? Ne manquez pas le prochain conseil municipal\, un événement […]\n\nPlus d'infos : https://golfe-saint-tropez.com/evenement/cogolin/conseil-municipal/
LOCATION:Centre Maurin des Maures\, Cogolin
STATUS:CONFIRMED
SEQUENCE:0
END:VEVENT
END:VCALENDAR
