BEGIN:VCALENDAR
VERSION:2.0
PRODID:-//Golfe Saint-Tropez//Events//FR
CALSCALE:GREGORIAN
METHOD:PUBLISH
BEGIN:VEVENT
UID:69e7bb02e204a@golfe-saint-tropez.com
DTSTAMP:20260421T175930Z
DTSTART:20260318T172843
DTEND:20260506T172843
SUMMARY:Exposition de peinture : PASSAGE de Joan Chabaud
DESCRIPTION:Plongez dans l’univers poétique de Joan Chabaud avec son exposition PASSAGE\, une invitation à explorer les frontières entre lumière et […]\n\nPlus d'infos : https://golfe-saint-tropez.com/evenement/cogolin/exposition-de-peinture-passage-de-joan-chabaud/
LOCATION:Le Château 46 rue nationale 83310 Cogolin
STATUS:CONFIRMED
SEQUENCE:0
END:VEVENT
END:VCALENDAR
