BEGIN:VCALENDAR
VERSION:2.0
PRODID:-//Golfe Saint-Tropez//Events//FR
CALSCALE:GREGORIAN
METHOD:PUBLISH
BEGIN:VEVENT
UID:69e7baa0681d9@golfe-saint-tropez.com
DTSTAMP:20260421T175752Z
DTSTART:20260507T190000
DTEND:20260507T190000
SUMMARY:Inattendues Grimaldines  
DESCRIPTION:Plongez dans l’univers artistique et surprenant des Inattendues Grimaldines\, un événement incontournable du Golfe de Saint-Tropez qui anime le charmant […]\n\nPlus d'infos : https://golfe-saint-tropez.com/evenement/cogolin/inattendues-grimaldines-4/
LOCATION:Ranch de la Mène\, 83310 Grimaud
STATUS:CONFIRMED
SEQUENCE:0
END:VEVENT
END:VCALENDAR
