BEGIN:VCALENDAR
VERSION:2.0
PRODID:-//Golfe Saint-Tropez//Events//FR
CALSCALE:GREGORIAN
METHOD:PUBLISH
BEGIN:VEVENT
UID:69e4ca5d201b3@golfe-saint-tropez.com
DTSTAMP:20260419T122813Z
DTSTART:20260507T000000
DTEND:20260507T000000
SUMMARY:Le grand jeu du code de la route
DESCRIPTION:Êtes-vous sûr de maîtriser parfaitement les règles de conduite actuelles ? Venez tester vos connaissances lors d’un événement ludique et […]\n\nPlus d'infos : https://golfe-saint-tropez.com/evenement/cogolin/le-grand-jeu-du-code-de-la-route/
LOCATION:Centre Maurin des Maures\, 83310 Cogolin
STATUS:CONFIRMED
SEQUENCE:0
END:VEVENT
END:VCALENDAR
