BEGIN:VCALENDAR
VERSION:2.0
PRODID:-//Golfe Saint-Tropez//Events//FR
CALSCALE:GREGORIAN
METHOD:PUBLISH
BEGIN:VEVENT
UID:69e8699e56a5f@golfe-saint-tropez.com
DTSTAMP:20260422T062430Z
DTSTART:20260506T000000
DTEND:20260506T000000
SUMMARY:L’heure du conte
DESCRIPTION:Plongez dans l’univers magique des histoires avec « L’heure du conte »\, un événement culturel à ne pas manquer dans […]\n\nPlus d'infos : https://golfe-saint-tropez.com/evenement/cogolin/lheure-du-conte/
LOCATION:Médiathèque\, Cogolin
STATUS:CONFIRMED
SEQUENCE:0
END:VEVENT
END:VCALENDAR
