BEGIN:VCALENDAR
VERSION:2.0
PRODID:-//Golfe Saint-Tropez//Events//FR
CALSCALE:GREGORIAN
METHOD:PUBLISH
BEGIN:VEVENT
UID:69eb787ca2342@golfe-saint-tropez.com
DTSTAMP:20260424T140444Z
DTSTART:20260506T083000
DTEND:20260506T130000
SUMMARY:Marché du Mercredi à Cogolin – 6 mai 2026
DESCRIPTION:Chaque mercredi matin\, de 8h30 à 12h30\, le marché provençal s’installe Place Victor Hugo et au Boulodrome\, au cœur de […]\n\nPlus d'infos : https://golfe-saint-tropez.com/evenement/cogolin/marche-du-mercredi-a-cogolin-2026-05-06/
LOCATION:Place Victor Hugo Cogolin
STATUS:CONFIRMED
SEQUENCE:0
END:VEVENT
END:VCALENDAR
