BEGIN:VCALENDAR
VERSION:2.0
PRODID:-//Golfe Saint-Tropez//Events//FR
CALSCALE:GREGORIAN
METHOD:PUBLISH
BEGIN:VEVENT
UID:69e4ca78edb2e@golfe-saint-tropez.com
DTSTAMP:20260419T122840Z
DTSTART:20260502T080000
DTEND:20260502T130000
SUMMARY:Marché du Samedi à Cogolin – 2 mai 2026
DESCRIPTION:Le marché du samedi se tient de 8h30 à 12h30 sur la Place des Boules. Plus petit que celui du […]\n\nPlus d'infos : https://golfe-saint-tropez.com/evenement/cogolin/marche-du-samedi-a-cogolin-2026-05-02/
LOCATION:Place Victor Hugo Cogolin
STATUS:CONFIRMED
SEQUENCE:0
END:VEVENT
END:VCALENDAR
