BEGIN:VCALENDAR
VERSION:2.0
PRODID:-//Golfe Saint-Tropez//Events//FR
CALSCALE:GREGORIAN
METHOD:PUBLISH
BEGIN:VEVENT
UID:69ea53dd91b36@golfe-saint-tropez.com
DTSTAMP:20260423T171613Z
DTSTART:20260425T080000
DTEND:20260425T130000
SUMMARY:Marché du Samedi à Cogolin
DESCRIPTION:Le marché du samedi se tient de 8h30 à 12h30 sur la Place des Boules. Plus petit que celui du […]\n\nPlus d'infos : https://golfe-saint-tropez.com/evenement/cogolin/marche-du-samedi-a-cogolin/
LOCATION:Place Victor Hugo Cogolin
STATUS:CONFIRMED
SEQUENCE:0
END:VEVENT
END:VCALENDAR
