BEGIN:VCALENDAR
VERSION:2.0
PRODID:-//Golfe Saint-Tropez//Events//FR
CALSCALE:GREGORIAN
METHOD:PUBLISH
BEGIN:VEVENT
UID:69e81f16209f4@golfe-saint-tropez.com
DTSTAMP:20260422T010630Z
DTSTART:20260815T164814
DTEND:20260815T164814
SUMMARY:Cérémonies commémoratives du 15 août
DESCRIPTION:Plongez au cœur de l’histoire du Var et du Golfe de Saint-Tropez en participant aux Cérémonies commémoratives du 15 août […]\n\nPlus d'infos : https://golfe-saint-tropez.com/evenement/gassin/ceremonies-commemoratives-du-15-aout/
LOCATION:Gassin
STATUS:CONFIRMED
SEQUENCE:0
END:VEVENT
END:VCALENDAR
