BEGIN:VCALENDAR
VERSION:2.0
PRODID:-//Golfe Saint-Tropez//Events//FR
CALSCALE:GREGORIAN
METHOD:PUBLISH
BEGIN:VEVENT
UID:69e81a3df049f@golfe-saint-tropez.com
DTSTAMP:20260422T004549Z
DTSTART:20260820T093031
DTEND:20260829T093031
SUMMARY:Concours de sauts international – Jumping août
DESCRIPTION:Préparez-vous à vivre l’apogée de l’élégance et de la performance sportive ! Le Jumping août\, célèbre Concours de sauts international\, […]\n\nPlus d'infos : https://golfe-saint-tropez.com/evenement/gassin/concours-de-sauts-international-jumping-aout/
LOCATION:Gassin\, Var\, France (Lieu exact non précisé dans la source)
STATUS:CONFIRMED
SEQUENCE:0
END:VEVENT
END:VCALENDAR
